BEGIN:VCALENDAR
VERSION:2.0
PRODID:Imitheme.com 
BEGIN:VEVENT
UID:20260421T0409231498129089
DTSTAMP;TZID=UTC:2026-04-21 04:09:23
DTSTART;TZID=America/Los_Angeles:20220208T000000
DTEND;TZID=America/Los_Angeles:20220208T000000
SUMMARY:Cercles de partage "Être Nature"
LOCATION:En ligne (Zoom)
DESCRIPTION:Chaque mois, un cercle. Un temps pour soi, un temps pour être. Partager, écouter, accueillir. Ensemble se relier. Se connecter. Chaque mois un thème. Une invitation, une porte ouverte pour vous laisser dire, un sujet autour duquel danser. Chaque mois un groupe. Pour ensemble créer, témoigner, parler, entendre ce qui doit être dit. Un contenant pour ce qui doit être reçu. Chaque mois un cercle de partage. Pour parler de la vie, de nos relations avec le vivant, avec le sauvage, avec l\'Autre, avec Soi.
URL:https://leventetlatortue.com/evenement/cercles-de-partage-etre-nature/
END:VEVENT
END:VCALENDAR
